BEGIN:VCALENDAR
VERSION:2.0
PRODID:icalendar-ruby
CALSCALE:GREGORIAN
METHOD:PUBLISH
BEGIN:VEVENT
DTSTAMP:20260424T111654Z
UID:58-907593@gatewaycc.tv
DTSTART:20261025T143000Z
DTEND:20261025T153000Z
CLASS:PUBLIC
CREATED:20260423T213250
DESCRIPTION:Sunday Worship Service
LAST-MODIFIED:20260423T213250
LOCATION:
SUMMARY:Sunday Worship Service
URL;VALUE=URI:https://gatewaycc.tv/events/sunday-worship-service/2026-10-25
ATTACH;FILENAME=26-easter-gateway-32.jpg;FMTTYPE=image/jpeg:https://dq5pwpg
 1q8ru0.cloudfront.net/2026/04/09/22/38/51/b2137cf1-2b17-42a3-b1d2-38592898
 7acf/26-easter-gateway-32.jpg
END:VEVENT
END:VCALENDAR
