BEGIN:VCALENDAR
VERSION:2.0
PRODID:icalendar-ruby
CALSCALE:GREGORIAN
METHOD:PUBLISH
BEGIN:VEVENT
DTSTAMP:20260424T214955Z
UID:57-908810@gatewaycc.tv
DTSTART:20261101T151000Z
DTEND:20261101T152000Z
CLASS:PUBLIC
CREATED:20260424T152845
DESCRIPTION:Sunday Worship Prayer Time
LAST-MODIFIED:20260424T152845
LOCATION:church lobby
SUMMARY:Sunday Worship Prayer Time
URL;VALUE=URI:https://gatewaycc.tv/events/sunday-worship-prayer-time/2026-1
 1-01
ATTACH;FILENAME=testament_textures_prayer-title-2-Wide 16x9.jpg;FMTTYPE=ima
 ge/jpeg:https://dq5pwpg1q8ru0.cloudfront.net/2026/04/09/22/32/06/1c4b6cd7-
 9a8b-4cb4-8dec-9d307f07fd37/testament_textures_prayer-title-2-Wide%2016x9.
 jpg
END:VEVENT
END:VCALENDAR
