BEGIN:VCALENDAR
VERSION:2.0
PRODID:icalendar-ruby
CALSCALE:GREGORIAN
METHOD:PUBLISH
BEGIN:VEVENT
DTSTAMP:20260422T150004Z
UID:59-904465@gatewaycc.tv
DTSTART:20261028T233000Z
DTEND:20261029T003000Z
CLASS:PUBLIC
CREATED:20260422T095439
DESCRIPTION:Midweek Services (Children's and Student Ministry)
LAST-MODIFIED:20260422T095439
LOCATION:
SUMMARY:Gateway Student Ministry Midweek Services
URL;VALUE=URI:https://gatewaycc.tv/events/gateway-student-ministry-midweek-
 services/2026-10-28
END:VEVENT
END:VCALENDAR
