BEGIN:VCALENDAR
VERSION:2.0
PRODID:icalendar-ruby
CALSCALE:GREGORIAN
METHOD:PUBLISH
BEGIN:VEVENT
DTSTAMP:20260421T170224Z
UID:59-902879@gatewaycc.tv
DTSTART:20261021T233000Z
DTEND:20261022T003000Z
CLASS:PUBLIC
CREATED:20260421T120215
DESCRIPTION:Midweek Services (Children's and Student Ministry)
LAST-MODIFIED:20260421T120215
LOCATION:
SUMMARY:Gateway Student Ministry Midweek Services
URL;VALUE=URI:https://gatewaycc.tv/events/gateway-student-ministry-midweek-
 services/2026-10-21
END:VEVENT
END:VCALENDAR
