BEGIN:VCALENDAR
VERSION:2.0
PRODID:icalendar-ruby
CALSCALE:GREGORIAN
METHOD:PUBLISH
BEGIN:VEVENT
DTSTAMP:20260421T154756Z
UID:59-902561@gatewaycc.tv
DTSTART:20261014T233000Z
DTEND:20261015T003000Z
CLASS:PUBLIC
CREATED:20260421T092302
DESCRIPTION:Midweek Services (Children's and Student Ministry)
LAST-MODIFIED:20260421T092302
LOCATION:
SUMMARY:Gateway Student Ministry Midweek Services
URL;VALUE=URI:https://gatewaycc.tv/events/gateway-student-ministry-midweek-
 services/2026-10-14
END:VEVENT
END:VCALENDAR
