BEGIN:VCALENDAR
VERSION:2.0
PRODID:icalendar-ruby
CALSCALE:GREGORIAN
METHOD:PUBLISH
BEGIN:VEVENT
DTSTAMP:20260421T210943Z
UID:71-903232@gatewaycc.tv
DTSTART:20260923T233000Z
DTEND:20260924T003000Z
CLASS:PUBLIC
CREATED:20260421T143857
DESCRIPTION:Kids Kindergarten through 5th grade meet upstairs.
LAST-MODIFIED:20260421T143857
LOCATION:Gateway Community Church
SUMMARY:Gateway Kids Wednesday Nights
URL;VALUE=URI:https://gatewaycc.tv/events/gateway-kids-wednesday-nights/202
 6-09-23
ATTACH;FILENAME=Gateway Kids (2).jpg;FMTTYPE=image/jpeg:https://dq5pwpg1q8r
 u0.cloudfront.net/2026/01/14/17/28/49/dadb068e-3a3e-4f9d-b8b2-86d489edaddf
 /Gateway%20Kids%20(2).jpg
END:VEVENT
END:VCALENDAR
