BEGIN:VCALENDAR
VERSION:2.0
PRODID:icalendar-ruby
CALSCALE:GREGORIAN
METHOD:PUBLISH
BEGIN:VEVENT
DTSTAMP:20260424T124129Z
UID:79-908041@gatewaycc.tv
DTSTART:20261007T233000Z
DTEND:20261008T003000Z
CLASS:PUBLIC
CREATED:20260424T070115
DESCRIPTION:Gateway Kids
LAST-MODIFIED:20260424T070115
LOCATION:
SUMMARY:Gateway Kids
URL;VALUE=URI:https://gatewaycc.tv/events/gateway-kids--79/2026-10-07
END:VEVENT
END:VCALENDAR
