BEGIN:VCALENDAR
VERSION:2.0
PRODID:icalendar-ruby
CALSCALE:GREGORIAN
METHOD:PUBLISH
BEGIN:VEVENT
DTSTAMP:20260422T090646Z
UID:79-903894@gatewaycc.tv
DTSTART:20260916T233000Z
DTEND:20260917T003000Z
CLASS:PUBLIC
CREATED:20260421T195522
DESCRIPTION:Gateway Kids
LAST-MODIFIED:20260421T195522
LOCATION:
SUMMARY:Gateway Kids
URL;VALUE=URI:https://gatewaycc.tv/events/gateway-kids--79/2026-09-16
END:VEVENT
END:VCALENDAR
