BEGIN:VCALENDAR
VERSION:2.0
PRODID:icalendar-ruby
CALSCALE:GREGORIAN
METHOD:PUBLISH
BEGIN:VEVENT
DTSTAMP:20260422T022027Z
UID:79-903890@gatewaycc.tv
DTSTART:20260819T233000Z
DTEND:20260820T003000Z
CLASS:PUBLIC
CREATED:20260421T195522
DESCRIPTION:Gateway Kids
LAST-MODIFIED:20260421T195522
LOCATION:
SUMMARY:Gateway Kids
URL;VALUE=URI:https://gatewaycc.tv/events/gateway-kids--79/2026-08-19
END:VEVENT
END:VCALENDAR
