BEGIN:VCALENDAR
VERSION:2.0
PRODID:icalendar-ruby
CALSCALE:GREGORIAN
METHOD:PUBLISH
BEGIN:VEVENT
DTSTAMP:20260422T004150Z
UID:79-903572@gatewaycc.tv
DTSTART:20260812T233000Z
DTEND:20260813T003000Z
CLASS:PUBLIC
CREATED:20260421T171642
DESCRIPTION:Gateway Kids
LAST-MODIFIED:20260421T171642
LOCATION:
SUMMARY:Gateway Kids
URL;VALUE=URI:https://gatewaycc.tv/events/gateway-kids--79/2026-08-12
END:VEVENT
END:VCALENDAR
