BEGIN:VCALENDAR
VERSION:2.0
PRODID:icalendar-ruby
CALSCALE:GREGORIAN
METHOD:PUBLISH
BEGIN:VEVENT
DTSTAMP:20260421T180120Z
UID:79-902933@gatewaycc.tv
DTSTART:20260708T233000Z
DTEND:20260709T003000Z
CLASS:PUBLIC
CREATED:20260421T120215
DESCRIPTION:Gateway Kids
LAST-MODIFIED:20260421T120215
LOCATION:
SUMMARY:Gateway Kids
URL;VALUE=URI:https://gatewaycc.tv/events/gateway-kids--79/2026-07-08
END:VEVENT
END:VCALENDAR
