BEGIN:VCALENDAR
VERSION:2.0
PRODID:icalendar-ruby
CALSCALE:GREGORIAN
METHOD:PUBLISH
BEGIN:VEVENT
DTSTAMP:20260421T150351Z
UID:79-902614@gatewaycc.tv
DTSTART:20260624T233000Z
DTEND:20260625T003000Z
CLASS:PUBLIC
CREATED:20260421T092302
DESCRIPTION:Gateway Kids
LAST-MODIFIED:20260421T092302
LOCATION:
SUMMARY:Gateway Kids
URL;VALUE=URI:https://gatewaycc.tv/events/gateway-kids--79/2026-06-24
END:VEVENT
END:VCALENDAR
