BEGIN:VCALENDAR
VERSION:2.0
PRODID:icalendar-ruby
CALSCALE:GREGORIAN
METHOD:PUBLISH
BEGIN:VEVENT
DTSTAMP:20260421T120724Z
UID:79-902295@gatewaycc.tv
DTSTART:20260610T233000Z
DTEND:20260611T003000Z
CLASS:PUBLIC
CREATED:20260421T064726
DESCRIPTION:Gateway Kids
LAST-MODIFIED:20260421T064726
LOCATION:
SUMMARY:Gateway Kids
URL;VALUE=URI:https://gatewaycc.tv/events/gateway-kids--79/2026-06-10
END:VEVENT
END:VCALENDAR
