BEGIN:VCALENDAR
VERSION:2.0
PRODID:icalendar-ruby
CALSCALE:GREGORIAN
METHOD:PUBLISH
BEGIN:VEVENT
DTSTAMP:20260421T104352Z
UID:79-901977@gatewaycc.tv
DTSTART:20260603T233000Z
DTEND:20260604T003000Z
CLASS:PUBLIC
CREATED:20260420T194053
DESCRIPTION:Gateway Kids
LAST-MODIFIED:20260420T194053
LOCATION:
SUMMARY:Gateway Kids
URL;VALUE=URI:https://gatewaycc.tv/events/gateway-kids--79/2026-06-03
END:VEVENT
END:VCALENDAR
