BEGIN:VCALENDAR
VERSION:2.0
PRODID:icalendar-ruby
CALSCALE:GREGORIAN
METHOD:PUBLISH
BEGIN:VEVENT
DTSTAMP:20260419T145446Z
UID:79-898484@gatewaycc.tv
DTSTART:20260415T233000Z
DTEND:20260416T003000Z
CLASS:PUBLIC
CREATED:20260419T073330
DESCRIPTION:Gateway Kids
LAST-MODIFIED:20260419T073330
LOCATION:
SUMMARY:Gateway Kids
URL;VALUE=URI:https://gatewaycc.tv/events/gateway-kids--79/2026-04-15
END:VEVENT
END:VCALENDAR
